BEGIN:VCALENDAR
VERSION:2.0
PRODID:-//Економски факултет - Скопје - ECPv6.15.20//NONSGML v1.0//EN
CALSCALE:GREGORIAN
METHOD:PUBLISH
X-WR-CALNAME:Економски факултет - Скопје
X-ORIGINAL-URL:https://eccf.ukim.edu.mk
X-WR-CALDESC:Events for Економски факултет - Скопје
REFRESH-INTERVAL;VALUE=DURATION:PT1H
X-Robots-Tag:noindex
X-PUBLISHED-TTL:PT1H
BEGIN:VTIMEZONE
TZID:UTC
BEGIN:STANDARD
TZOFFSETFROM:+0000
TZOFFSETTO:+0000
TZNAME:UTC
DTSTART:20190101T000000
END:STANDARD
END:VTIMEZONE
BEGIN:VEVENT
DTSTART;TZID=UTC:20200513T110000
DTEND;TZID=UTC:20200513T130000
DTSTAMP:20260425T153148
CREATED:20200507T123702Z
LAST-MODIFIED:20200512T040934Z
UID:6588-1589367600-1589374800@eccf.ukim.edu.mk
SUMMARY:Celebration of EUROPE Day and 25th Anniversary of the EUi
DESCRIPTION:Почитувани\, Ни претставува особена чест и задоволство да ве поканиме на петтиот од серијата отворени настани организирани од страна на Катедрата по математика и статистика под името Quant Talks\, кој ќе се одржи на 21.04.2026 (вторник) од 12:15-12:45ч во Сала за состаноци. Гостин-предавач ќе биде м-р Петар Јолакоски\, докторанд на Факултетот за информатички науки и компјутерско инженерство (ФИНКИ)\, Универзитет „Св. Кирил и Методиј“ – Скопје. Своето високо образование го завршил на истиот универзитет\, а неговиот научно-истражувачки интерес е насочен кон случајните процеси\, со фокус на стохастичките диференцијални равенки и нивната примена во економијата и машинското учење. Од 2021 година е ангажиран како истражувач на меѓународни научно-истражувачки проекти во Центарот за компјутерски науки и информатички технологии при МАНУ. Како резултат од неговата досегашна работа\, од 2021 година до денес има објавено над 15 научни трудови во списанија со фактор на влијание. Презентацијата ќе биде на тема „Временско-фреквенциски пристап во економијата и финансиите: вејвлет анализа на синхронизација на бизнис циклуси“\,  а до работна верзија на трудот можете да пристапите на: https://arxiv.org/pdf/2603.28951 Со почит\,Катедра по математика и статистика\,Економски факултет – Скопје
URL:https://eccf.ukim.edu.mk/event/celebration-of-europe-day-and-25th-anniversary-of-the-eui/
END:VEVENT
END:VCALENDAR