BEGIN:VCALENDAR
VERSION:2.0
PRODID:-//Економски факултет - Скопје - ECPv6.15.20//NONSGML v1.0//EN
CALSCALE:GREGORIAN
METHOD:PUBLISH
X-ORIGINAL-URL:https://eccf.ukim.edu.mk
X-WR-CALDESC:Events for Економски факултет - Скопје
REFRESH-INTERVAL;VALUE=DURATION:PT1H
X-Robots-Tag:noindex
X-PUBLISHED-TTL:PT1H
BEGIN:VTIMEZONE
TZID:Europe/Skopje
BEGIN:DAYLIGHT
TZOFFSETFROM:+0100
TZOFFSETTO:+0200
TZNAME:CEST
DTSTART:20230326T010000
END:DAYLIGHT
BEGIN:STANDARD
TZOFFSETFROM:+0200
TZOFFSETTO:+0100
TZNAME:CET
DTSTART:20231029T010000
END:STANDARD
BEGIN:DAYLIGHT
TZOFFSETFROM:+0100
TZOFFSETTO:+0200
TZNAME:CEST
DTSTART:20240331T010000
END:DAYLIGHT
BEGIN:STANDARD
TZOFFSETFROM:+0200
TZOFFSETTO:+0100
TZNAME:CET
DTSTART:20241027T010000
END:STANDARD
BEGIN:DAYLIGHT
TZOFFSETFROM:+0100
TZOFFSETTO:+0200
TZNAME:CEST
DTSTART:20250330T010000
END:DAYLIGHT
BEGIN:STANDARD
TZOFFSETFROM:+0200
TZOFFSETTO:+0100
TZNAME:CET
DTSTART:20251026T010000
END:STANDARD
END:VTIMEZONE
BEGIN:VEVENT
DTSTART;TZID=Europe/Skopje:20240924T083000
DTEND;TZID=Europe/Skopje:20240927T160000
DTSTAMP:20260424T180847
CREATED:20240830T091104Z
LAST-MODIFIED:20240830T091413Z
UID:30968-1727166600-1727452800@eccf.ukim.edu.mk
SUMMARY:14th International Summer School on AI in Business and Economy!
DESCRIPTION:Почитувани\, Ни претставува особена чест и задоволство да ве поканиме на петтиот од серијата отворени настани организирани од страна на Катедрата по математика и статистика под името Quant Talks\, кој ќе се одржи на 21.04.2026 (вторник) од 12:15-12:45ч во Сала за состаноци. Гостин-предавач ќе биде м-р Петар Јолакоски\, докторанд на Факултетот за информатички науки и компјутерско инженерство (ФИНКИ)\, Универзитет „Св. Кирил и Методиј“ – Скопје. Своето високо образование го завршил на истиот универзитет\, а неговиот научно-истражувачки интерес е насочен кон случајните процеси\, со фокус на стохастичките диференцијални равенки и нивната примена во економијата и машинското учење. Од 2021 година е ангажиран како истражувач на меѓународни научно-истражувачки проекти во Центарот за компјутерски науки и информатички технологии при МАНУ. Како резултат од неговата досегашна работа\, од 2021 година до денес има објавено над 15 научни трудови во списанија со фактор на влијание. Презентацијата ќе биде на тема „Временско-фреквенциски пристап во економијата и финансиите: вејвлет анализа на синхронизација на бизнис циклуси“\,  а до работна верзија на трудот можете да пристапите на: https://arxiv.org/pdf/2603.28951 Со почит\,Катедра по математика и статистика\,Економски факултет – Скопје
URL:https://eccf.ukim.edu.mk/event/14th-international-summer-school-on-ai-in-business-and-economy/
LOCATION:Економски факултет – Скопје\, бул. Гоце Делчев бр.9В\, Скопје\, Центар\, 1000\, North Macedonia
END:VEVENT
BEGIN:VEVENT
DTSTART;TZID=Europe/Skopje:20240927T120000
DTEND;TZID=Europe/Skopje:20240927T130000
DTSTAMP:20260424T180847
CREATED:20240923T091939Z
LAST-MODIFIED:20240923T122203Z
UID:31282-1727438400-1727442000@eccf.ukim.edu.mk
SUMMARY:Дигитална Трансформација - Како технологијата ги менува бизнисите и ги подготвува за иднината!
DESCRIPTION:Почитувани\, Ни претставува особена чест и задоволство да ве поканиме на петтиот од серијата отворени настани организирани од страна на Катедрата по математика и статистика под името Quant Talks\, кој ќе се одржи на 21.04.2026 (вторник) од 12:15-12:45ч во Сала за состаноци. Гостин-предавач ќе биде м-р Петар Јолакоски\, докторанд на Факултетот за информатички науки и компјутерско инженерство (ФИНКИ)\, Универзитет „Св. Кирил и Методиј“ – Скопје. Своето високо образование го завршил на истиот универзитет\, а неговиот научно-истражувачки интерес е насочен кон случајните процеси\, со фокус на стохастичките диференцијални равенки и нивната примена во економијата и машинското учење. Од 2021 година е ангажиран како истражувач на меѓународни научно-истражувачки проекти во Центарот за компјутерски науки и информатички технологии при МАНУ. Како резултат од неговата досегашна работа\, од 2021 година до денес има објавено над 15 научни трудови во списанија со фактор на влијание. Презентацијата ќе биде на тема „Временско-фреквенциски пристап во економијата и финансиите: вејвлет анализа на синхронизација на бизнис циклуси“\,  а до работна верзија на трудот можете да пристапите на: https://arxiv.org/pdf/2603.28951 Со почит\,Катедра по математика и статистика\,Економски факултет – Скопје
URL:https://eccf.ukim.edu.mk/event/%d0%b4%d0%b8%d0%b3%d0%b8%d1%82%d0%b0%d0%bb%d0%bd%d0%b0-%d1%82%d1%80%d0%b0%d0%bd%d1%81%d1%84%d0%be%d1%80%d0%bc%d0%b0%d1%86%d0%b8%d1%98%d0%b0-%d0%ba%d0%b0%d0%ba%d0%be-%d1%82%d0%b5%d1%85%d0%bd%d0%be/
END:VEVENT
END:VCALENDAR