BEGIN:VCALENDAR
VERSION:2.0
PRODID:-//Економски факултет - Скопје - ECPv6.15.20//NONSGML v1.0//EN
CALSCALE:GREGORIAN
METHOD:PUBLISH
X-WR-CALNAME:Економски факултет - Скопје
X-ORIGINAL-URL:https://eccf.ukim.edu.mk
X-WR-CALDESC:Events for Економски факултет - Скопје
REFRESH-INTERVAL;VALUE=DURATION:PT1H
X-Robots-Tag:noindex
X-PUBLISHED-TTL:PT1H
BEGIN:VTIMEZONE
TZID:Europe/Helsinki
BEGIN:DAYLIGHT
TZOFFSETFROM:+0200
TZOFFSETTO:+0300
TZNAME:EEST
DTSTART:20180325T010000
END:DAYLIGHT
BEGIN:STANDARD
TZOFFSETFROM:+0300
TZOFFSETTO:+0200
TZNAME:EET
DTSTART:20181028T010000
END:STANDARD
BEGIN:DAYLIGHT
TZOFFSETFROM:+0200
TZOFFSETTO:+0300
TZNAME:EEST
DTSTART:20190331T010000
END:DAYLIGHT
BEGIN:STANDARD
TZOFFSETFROM:+0300
TZOFFSETTO:+0200
TZNAME:EET
DTSTART:20191027T010000
END:STANDARD
BEGIN:DAYLIGHT
TZOFFSETFROM:+0200
TZOFFSETTO:+0300
TZNAME:EEST
DTSTART:20200329T010000
END:DAYLIGHT
BEGIN:STANDARD
TZOFFSETFROM:+0300
TZOFFSETTO:+0200
TZNAME:EET
DTSTART:20201025T010000
END:STANDARD
END:VTIMEZONE
BEGIN:VEVENT
DTSTART;TZID=Europe/Helsinki:20191122T180000
DTEND;TZID=Europe/Helsinki:20191122T220000
DTSTAMP:20260426T034703
CREATED:20191120T182502Z
LAST-MODIFIED:20191120T182627Z
UID:623-1574445600-1574460000@eccf.ukim.edu.mk
SUMMARY:Отворен ден на УКИМ\, отворен ден на Економски!
DESCRIPTION:Почитувани\, Ни претставува особена чест и задоволство да ве поканиме на петтиот од серијата отворени настани организирани од страна на Катедрата по математика и статистика под името Quant Talks\, кој ќе се одржи на 21.04.2026 (вторник) од 12:15-12:45ч во Сала за состаноци. Гостин-предавач ќе биде м-р Петар Јолакоски\, докторанд на Факултетот за информатички науки и компјутерско инженерство (ФИНКИ)\, Универзитет „Св. Кирил и Методиј“ – Скопје. Своето високо образование го завршил на истиот универзитет\, а неговиот научно-истражувачки интерес е насочен кон случајните процеси\, со фокус на стохастичките диференцијални равенки и нивната примена во економијата и машинското учење. Од 2021 година е ангажиран како истражувач на меѓународни научно-истражувачки проекти во Центарот за компјутерски науки и информатички технологии при МАНУ. Како резултат од неговата досегашна работа\, од 2021 година до денес има објавено над 15 научни трудови во списанија со фактор на влијание. Презентацијата ќе биде на тема „Временско-фреквенциски пристап во економијата и финансиите: вејвлет анализа на синхронизација на бизнис циклуси“\,  а до работна верзија на трудот можете да пристапите на: https://arxiv.org/pdf/2603.28951 Со почит\,Катедра по математика и статистика\,Економски факултет – Скопје
URL:https://eccf.ukim.edu.mk/event/%d0%be%d1%82%d0%b2%d0%be%d1%80%d0%b5%d0%bd-%d0%b4%d0%b5%d0%bd-%d0%bd%d0%b0-%d1%83%d0%ba%d0%b8%d0%bc-%d0%be%d1%82%d0%b2%d0%be%d1%80%d0%b5%d0%bd-%d0%b4%d0%b5%d0%bd-%d0%bd%d0%b0-%d0%b5%d0%ba%d0%be%d0%bd/
LOCATION:Економски факултет – Скопје\, бул. Гоце Делчев бр.9В\, Скопје\, Центар\, 1000\, North Macedonia
END:VEVENT
END:VCALENDAR