BEGIN:VCALENDAR
VERSION:2.0
PRODID:-//Економски факултет - Скопје - ECPv6.15.20//NONSGML v1.0//EN
CALSCALE:GREGORIAN
METHOD:PUBLISH
X-ORIGINAL-URL:https://eccf.ukim.edu.mk
X-WR-CALDESC:Events for Економски факултет - Скопје
REFRESH-INTERVAL;VALUE=DURATION:PT1H
X-Robots-Tag:noindex
X-PUBLISHED-TTL:PT1H
BEGIN:VTIMEZONE
TZID:Europe/Skopje
BEGIN:DAYLIGHT
TZOFFSETFROM:+0100
TZOFFSETTO:+0200
TZNAME:CEST
DTSTART:20190331T010000
END:DAYLIGHT
BEGIN:STANDARD
TZOFFSETFROM:+0200
TZOFFSETTO:+0100
TZNAME:CET
DTSTART:20191027T010000
END:STANDARD
BEGIN:DAYLIGHT
TZOFFSETFROM:+0100
TZOFFSETTO:+0200
TZNAME:CEST
DTSTART:20200329T010000
END:DAYLIGHT
BEGIN:STANDARD
TZOFFSETFROM:+0200
TZOFFSETTO:+0100
TZNAME:CET
DTSTART:20201025T010000
END:STANDARD
BEGIN:DAYLIGHT
TZOFFSETFROM:+0100
TZOFFSETTO:+0200
TZNAME:CEST
DTSTART:20210328T010000
END:DAYLIGHT
BEGIN:STANDARD
TZOFFSETFROM:+0200
TZOFFSETTO:+0100
TZNAME:CET
DTSTART:20211031T010000
END:STANDARD
END:VTIMEZONE
BEGIN:VEVENT
DTSTART;TZID=Europe/Skopje:20200304T110000
DTEND;TZID=Europe/Skopje:20200304T123000
DTSTAMP:20260425T171010
CREATED:20200302T075004Z
LAST-MODIFIED:20200302T075419Z
UID:4158-1583319600-1583325000@eccf.ukim.edu.mk
SUMMARY:Инфо сесија насловена „Прашања и одговори: Mерки за млади“
DESCRIPTION:Почитувани\, Ни претставува особена чест и задоволство да ве поканиме на петтиот од серијата отворени настани организирани од страна на Катедрата по математика и статистика под името Quant Talks\, кој ќе се одржи на 21.04.2026 (вторник) од 12:15-12:45ч во Сала за состаноци. Гостин-предавач ќе биде м-р Петар Јолакоски\, докторанд на Факултетот за информатички науки и компјутерско инженерство (ФИНКИ)\, Универзитет „Св. Кирил и Методиј“ – Скопје. Своето високо образование го завршил на истиот универзитет\, а неговиот научно-истражувачки интерес е насочен кон случајните процеси\, со фокус на стохастичките диференцијални равенки и нивната примена во економијата и машинското учење. Од 2021 година е ангажиран како истражувач на меѓународни научно-истражувачки проекти во Центарот за компјутерски науки и информатички технологии при МАНУ. Како резултат од неговата досегашна работа\, од 2021 година до денес има објавено над 15 научни трудови во списанија со фактор на влијание. Презентацијата ќе биде на тема „Временско-фреквенциски пристап во економијата и финансиите: вејвлет анализа на синхронизација на бизнис циклуси“\,  а до работна верзија на трудот можете да пристапите на: https://arxiv.org/pdf/2603.28951 Со почит\,Катедра по математика и статистика\,Економски факултет – Скопје
URL:https://eccf.ukim.edu.mk/event/%d0%b8%d0%bd%d1%84%d0%be-%d1%81%d0%b5%d1%81%d0%b8%d1%98%d0%b0-%d0%bd%d0%b0%d1%81%d0%bb%d0%be%d0%b2%d0%b5%d0%bd%d0%b0-%d0%bf%d1%80%d0%b0%d1%88%d0%b0%d1%9a%d0%b0-%d0%b8-%d0%be%d0%b4%d0%b3%d0%be/
ATTACH;FMTTYPE=image/png:https://eccf.ukim.edu.mk/wp-content/uploads/2020/03/Info-Sesija.png
END:VEVENT
BEGIN:VEVENT
DTSTART;TZID=Europe/Skopje:20200305T150000
DTEND;TZID=Europe/Skopje:20200305T163000
DTSTAMP:20260425T171010
CREATED:20200302T093853Z
LAST-MODIFIED:20200302T094601Z
UID:4225-1583420400-1583425800@eccf.ukim.edu.mk
SUMMARY:ПОВИК ЗА УЧЕСТВО НА РАБОТИЛНИЦА на тема  „ Нелт и  долгорочната перспектива во светот на дистрибуција и логистика“
DESCRIPTION:Почитувани\, Ни претставува особена чест и задоволство да ве поканиме на петтиот од серијата отворени настани организирани од страна на Катедрата по математика и статистика под името Quant Talks\, кој ќе се одржи на 21.04.2026 (вторник) од 12:15-12:45ч во Сала за состаноци. Гостин-предавач ќе биде м-р Петар Јолакоски\, докторанд на Факултетот за информатички науки и компјутерско инженерство (ФИНКИ)\, Универзитет „Св. Кирил и Методиј“ – Скопје. Своето високо образование го завршил на истиот универзитет\, а неговиот научно-истражувачки интерес е насочен кон случајните процеси\, со фокус на стохастичките диференцијални равенки и нивната примена во економијата и машинското учење. Од 2021 година е ангажиран како истражувач на меѓународни научно-истражувачки проекти во Центарот за компјутерски науки и информатички технологии при МАНУ. Како резултат од неговата досегашна работа\, од 2021 година до денес има објавено над 15 научни трудови во списанија со фактор на влијание. Презентацијата ќе биде на тема „Временско-фреквенциски пристап во економијата и финансиите: вејвлет анализа на синхронизација на бизнис циклуси“\,  а до работна верзија на трудот можете да пристапите на: https://arxiv.org/pdf/2603.28951 Со почит\,Катедра по математика и статистика\,Економски факултет – Скопје
URL:https://eccf.ukim.edu.mk/event/%d0%bf%d0%be%d0%b2%d0%b8%d0%ba-%d0%b7%d0%b0-%d1%83%d1%87%d0%b5%d1%81%d1%82%d0%b2%d0%be-%d0%bd%d0%b0-%d1%80%d0%b0%d0%b1%d0%be%d1%82%d0%b8%d0%bb%d0%bd%d0%b8%d1%86%d0%b0-%d0%bd%d0%b0-%d1%82%d0%b5%d0%bc/
ATTACH;FMTTYPE=image/png:https://eccf.ukim.edu.mk/wp-content/uploads/2020/03/јк2.png
END:VEVENT
BEGIN:VEVENT
DTSTART;TZID=Europe/Skopje:20200310T150000
DTEND;TZID=Europe/Skopje:20200310T160000
DTSTAMP:20260425T171010
CREATED:20200226T094134Z
LAST-MODIFIED:20200305T064340Z
UID:4086-1583852400-1583856000@eccf.ukim.edu.mk
SUMMARY:КОНСУЛТАТИВНА СРЕДБА за Повикот за изработка на стручни трудови и есеи (студии на случај) за студенти на тема: „Индустриска револуција 4.0: Како новите технологии ќе го променат сметководството во иднина“
DESCRIPTION:Почитувани\, Ни претставува особена чест и задоволство да ве поканиме на петтиот од серијата отворени настани организирани од страна на Катедрата по математика и статистика под името Quant Talks\, кој ќе се одржи на 21.04.2026 (вторник) од 12:15-12:45ч во Сала за состаноци. Гостин-предавач ќе биде м-р Петар Јолакоски\, докторанд на Факултетот за информатички науки и компјутерско инженерство (ФИНКИ)\, Универзитет „Св. Кирил и Методиј“ – Скопје. Своето високо образование го завршил на истиот универзитет\, а неговиот научно-истражувачки интерес е насочен кон случајните процеси\, со фокус на стохастичките диференцијални равенки и нивната примена во економијата и машинското учење. Од 2021 година е ангажиран како истражувач на меѓународни научно-истражувачки проекти во Центарот за компјутерски науки и информатички технологии при МАНУ. Како резултат од неговата досегашна работа\, од 2021 година до денес има објавено над 15 научни трудови во списанија со фактор на влијание. Презентацијата ќе биде на тема „Временско-фреквенциски пристап во економијата и финансиите: вејвлет анализа на синхронизација на бизнис циклуси“\,  а до работна верзија на трудот можете да пристапите на: https://arxiv.org/pdf/2603.28951 Со почит\,Катедра по математика и статистика\,Економски факултет – Скопје
URL:https://eccf.ukim.edu.mk/event/%d0%ba%d0%be%d0%bd%d1%81%d1%83%d0%bb%d1%82%d0%b0%d1%82%d0%b8%d0%b2%d0%bd%d0%b0-%d1%81%d1%80%d0%b5%d0%b4%d0%b1%d0%b0-%d0%b7%d0%b0-%d0%bf%d0%be%d0%b2%d0%b8%d0%ba%d0%be%d1%82-%d0%b7%d0%b0-%d0%b8%d0%b7/
LOCATION:Сала за донации\, Економски факултет-Скопје\, УКИМ\, Скопје
END:VEVENT
BEGIN:VEVENT
DTSTART;TZID=Europe/Skopje:20200316T180000
DTEND;TZID=Europe/Skopje:20200320T200000
DTSTAMP:20260425T171010
CREATED:20200218T114306Z
LAST-MODIFIED:20200218T114306Z
UID:3870-1584381600-1584734400@eccf.ukim.edu.mk
SUMMARY:StartUp Europe Week Skopje
DESCRIPTION:Почитувани\, Ни претставува особена чест и задоволство да ве поканиме на петтиот од серијата отворени настани организирани од страна на Катедрата по математика и статистика под името Quant Talks\, кој ќе се одржи на 21.04.2026 (вторник) од 12:15-12:45ч во Сала за состаноци. Гостин-предавач ќе биде м-р Петар Јолакоски\, докторанд на Факултетот за информатички науки и компјутерско инженерство (ФИНКИ)\, Универзитет „Св. Кирил и Методиј“ – Скопје. Своето високо образование го завршил на истиот универзитет\, а неговиот научно-истражувачки интерес е насочен кон случајните процеси\, со фокус на стохастичките диференцијални равенки и нивната примена во економијата и машинското учење. Од 2021 година е ангажиран како истражувач на меѓународни научно-истражувачки проекти во Центарот за компјутерски науки и информатички технологии при МАНУ. Како резултат од неговата досегашна работа\, од 2021 година до денес има објавено над 15 научни трудови во списанија со фактор на влијание. Презентацијата ќе биде на тема „Временско-фреквенциски пристап во економијата и финансиите: вејвлет анализа на синхронизација на бизнис циклуси“\,  а до работна верзија на трудот можете да пристапите на: https://arxiv.org/pdf/2603.28951 Со почит\,Катедра по математика и статистика\,Економски факултет – Скопје
URL:https://eccf.ukim.edu.mk/event/startup-europe-week-skopje/
LOCATION:Europe Hause Скопје\, Ss Cyril & Methodius 52b\, Skopje\, 1000\, North Macedonia
END:VEVENT
END:VCALENDAR