BEGIN:VCALENDAR
VERSION:2.0
PRODID:-//Економски факултет - Скопје - ECPv6.15.20//NONSGML v1.0//EN
CALSCALE:GREGORIAN
METHOD:PUBLISH
X-ORIGINAL-URL:https://eccf.ukim.edu.mk
X-WR-CALDESC:Events for Економски факултет - Скопје
REFRESH-INTERVAL;VALUE=DURATION:PT1H
X-Robots-Tag:noindex
X-PUBLISHED-TTL:PT1H
BEGIN:VTIMEZONE
TZID:Europe/Skopje
BEGIN:DAYLIGHT
TZOFFSETFROM:+0100
TZOFFSETTO:+0200
TZNAME:CEST
DTSTART:20190331T010000
END:DAYLIGHT
BEGIN:STANDARD
TZOFFSETFROM:+0200
TZOFFSETTO:+0100
TZNAME:CET
DTSTART:20191027T010000
END:STANDARD
BEGIN:DAYLIGHT
TZOFFSETFROM:+0100
TZOFFSETTO:+0200
TZNAME:CEST
DTSTART:20200329T010000
END:DAYLIGHT
BEGIN:STANDARD
TZOFFSETFROM:+0200
TZOFFSETTO:+0100
TZNAME:CET
DTSTART:20201025T010000
END:STANDARD
BEGIN:DAYLIGHT
TZOFFSETFROM:+0100
TZOFFSETTO:+0200
TZNAME:CEST
DTSTART:20210328T010000
END:DAYLIGHT
BEGIN:STANDARD
TZOFFSETFROM:+0200
TZOFFSETTO:+0100
TZNAME:CET
DTSTART:20211031T010000
END:STANDARD
END:VTIMEZONE
BEGIN:VEVENT
DTSTART;TZID=Europe/Skopje:20201118T130000
DTEND;TZID=Europe/Skopje:20201118T143000
DTSTAMP:20260425T050915
CREATED:20201113T130641Z
LAST-MODIFIED:20201113T131428Z
UID:9036-1605704400-1605709800@eccf.ukim.edu.mk
SUMMARY:НОБЕЛОВЦИ ПО ЕКОНОМИЈА 1969-2020
DESCRIPTION:Почитувани\, Ни претставува особена чест и задоволство да ве поканиме на петтиот од серијата отворени настани организирани од страна на Катедрата по математика и статистика под името Quant Talks\, кој ќе се одржи на 21.04.2026 (вторник) од 12:15-12:45ч во Сала за состаноци. Гостин-предавач ќе биде м-р Петар Јолакоски\, докторанд на Факултетот за информатички науки и компјутерско инженерство (ФИНКИ)\, Универзитет „Св. Кирил и Методиј“ – Скопје. Своето високо образование го завршил на истиот универзитет\, а неговиот научно-истражувачки интерес е насочен кон случајните процеси\, со фокус на стохастичките диференцијални равенки и нивната примена во економијата и машинското учење. Од 2021 година е ангажиран како истражувач на меѓународни научно-истражувачки проекти во Центарот за компјутерски науки и информатички технологии при МАНУ. Како резултат од неговата досегашна работа\, од 2021 година до денес има објавено над 15 научни трудови во списанија со фактор на влијание. Презентацијата ќе биде на тема „Временско-фреквенциски пристап во економијата и финансиите: вејвлет анализа на синхронизација на бизнис циклуси“\,  а до работна верзија на трудот можете да пристапите на: https://arxiv.org/pdf/2603.28951 Со почит\,Катедра по математика и статистика\,Економски факултет – Скопје
URL:https://eccf.ukim.edu.mk/event/%d0%bd%d0%be%d0%b1%d0%b5%d0%bb%d0%be%d0%b2%d1%86%d0%b8-%d0%bf%d0%be-%d0%b5%d0%ba%d0%be%d0%bd%d0%be%d0%bc%d0%b8%d1%98%d0%b0-1969-2020/
LOCATION:е-настан
ATTACH;FMTTYPE=image/jpeg:https://eccf.ukim.edu.mk/wp-content/uploads/2020/11/NOBELOVCI-PO-EKONOMIJA.jpg
END:VEVENT
BEGIN:VEVENT
DTSTART;TZID=Europe/Skopje:20201127T173000
DTEND;TZID=Europe/Skopje:20201127T183000
DTSTAMP:20260425T050915
CREATED:20201124T123941Z
LAST-MODIFIED:20201124T123941Z
UID:9216-1606498200-1606501800@eccf.ukim.edu.mk
SUMMARY:Предавање на Министерот за финансии Фатмир Бесими – „Smart Finance for SmartER Growth“
DESCRIPTION:Почитувани\, Ни претставува особена чест и задоволство да ве поканиме на петтиот од серијата отворени настани организирани од страна на Катедрата по математика и статистика под името Quant Talks\, кој ќе се одржи на 21.04.2026 (вторник) од 12:15-12:45ч во Сала за состаноци. Гостин-предавач ќе биде м-р Петар Јолакоски\, докторанд на Факултетот за информатички науки и компјутерско инженерство (ФИНКИ)\, Универзитет „Св. Кирил и Методиј“ – Скопје. Своето високо образование го завршил на истиот универзитет\, а неговиот научно-истражувачки интерес е насочен кон случајните процеси\, со фокус на стохастичките диференцијални равенки и нивната примена во економијата и машинското учење. Од 2021 година е ангажиран како истражувач на меѓународни научно-истражувачки проекти во Центарот за компјутерски науки и информатички технологии при МАНУ. Како резултат од неговата досегашна работа\, од 2021 година до денес има објавено над 15 научни трудови во списанија со фактор на влијание. Презентацијата ќе биде на тема „Временско-фреквенциски пристап во економијата и финансиите: вејвлет анализа на синхронизација на бизнис циклуси“\,  а до работна верзија на трудот можете да пристапите на: https://arxiv.org/pdf/2603.28951 Со почит\,Катедра по математика и статистика\,Економски факултет – Скопје
URL:https://eccf.ukim.edu.mk/event/%d0%bf%d1%80%d0%b5%d0%b4%d0%b0%d0%b2%d0%b0%d1%9a%d0%b5-%d0%bd%d0%b0-%d0%bc%d0%b8%d0%bd%d0%b8%d1%81%d1%82%d0%b5%d1%80%d0%be%d1%82-%d0%b7%d0%b0-%d1%84%d0%b8%d0%bd%d0%b0%d0%bd%d1%81%d0%b8%d0%b8-%d1%84/
LOCATION:е-настан
END:VEVENT
BEGIN:VEVENT
DTSTART;TZID=Europe/Skopje:20201130T150000
DTEND;TZID=Europe/Skopje:20201130T163000
DTSTAMP:20260425T050915
CREATED:20201126T120925Z
LAST-MODIFIED:20201126T120925Z
UID:9249-1606748400-1606753800@eccf.ukim.edu.mk
SUMMARY:Презентирање на извештајот за „European Economic Outlook for Europe for 2020-21“ од страна на ММФ
DESCRIPTION:Почитувани\, Ни претставува особена чест и задоволство да ве поканиме на петтиот од серијата отворени настани организирани од страна на Катедрата по математика и статистика под името Quant Talks\, кој ќе се одржи на 21.04.2026 (вторник) од 12:15-12:45ч во Сала за состаноци. Гостин-предавач ќе биде м-р Петар Јолакоски\, докторанд на Факултетот за информатички науки и компјутерско инженерство (ФИНКИ)\, Универзитет „Св. Кирил и Методиј“ – Скопје. Своето високо образование го завршил на истиот универзитет\, а неговиот научно-истражувачки интерес е насочен кон случајните процеси\, со фокус на стохастичките диференцијални равенки и нивната примена во економијата и машинското учење. Од 2021 година е ангажиран како истражувач на меѓународни научно-истражувачки проекти во Центарот за компјутерски науки и информатички технологии при МАНУ. Како резултат од неговата досегашна работа\, од 2021 година до денес има објавено над 15 научни трудови во списанија со фактор на влијание. Презентацијата ќе биде на тема „Временско-фреквенциски пристап во економијата и финансиите: вејвлет анализа на синхронизација на бизнис циклуси“\,  а до работна верзија на трудот можете да пристапите на: https://arxiv.org/pdf/2603.28951 Со почит\,Катедра по математика и статистика\,Економски факултет – Скопје
URL:https://eccf.ukim.edu.mk/event/%d0%bf%d1%80%d0%b5%d0%b7%d0%b5%d0%bd%d1%82%d0%b8%d1%80%d0%b0%d1%9a%d0%b5-%d0%bd%d0%b0-%d0%b8%d0%b7%d0%b2%d0%b5%d1%88%d1%82%d0%b0%d1%98%d0%be%d1%82-%d0%b7%d0%b0-european-economic-outlook-for-e/
LOCATION:е-настан
END:VEVENT
END:VCALENDAR